BEGIN:VCALENDAR
VERSION:2.0
PRODID:-//UCAP - ECPv6.15.17.1//NONSGML v1.0//EN
CALSCALE:GREGORIAN
METHOD:PUBLISH
X-ORIGINAL-URL:https://www.unitedcapmn.org
X-WR-CALDESC:Events for UCAP
REFRESH-INTERVAL;VALUE=DURATION:PT1H
X-Robots-Tag:noindex
X-PUBLISHED-TTL:PT1H
BEGIN:VTIMEZONE
TZID:America/Chicago
BEGIN:DAYLIGHT
TZOFFSETFROM:-0600
TZOFFSETTO:-0500
TZNAME:CDT
DTSTART:20170312T080000
END:DAYLIGHT
BEGIN:STANDARD
TZOFFSETFROM:-0500
TZOFFSETTO:-0600
TZNAME:CST
DTSTART:20171105T070000
END:STANDARD
BEGIN:DAYLIGHT
TZOFFSETFROM:-0600
TZOFFSETTO:-0500
TZNAME:CDT
DTSTART:20180311T080000
END:DAYLIGHT
BEGIN:STANDARD
TZOFFSETFROM:-0500
TZOFFSETTO:-0600
TZNAME:CST
DTSTART:20181104T070000
END:STANDARD
BEGIN:DAYLIGHT
TZOFFSETFROM:-0600
TZOFFSETTO:-0500
TZNAME:CDT
DTSTART:20190310T080000
END:DAYLIGHT
BEGIN:STANDARD
TZOFFSETFROM:-0500
TZOFFSETTO:-0600
TZNAME:CST
DTSTART:20191103T070000
END:STANDARD
END:VTIMEZONE
BEGIN:VEVENT
DTSTART;TZID=America/Chicago:20180301T163000
DTEND;TZID=America/Chicago:20180301T180000
DTSTAMP:20260421T042419
CREATED:20170504T200227Z
LAST-MODIFIED:20180221T174553Z
UID:1887-1519921800-1519927200@www.unitedcapmn.org
SUMMARY:Ruby's Pantry of Marshall
DESCRIPTION:Monthly food distribution open to everyone. For a $20.00 cash donation you can receive an abundance of grocery items. You must supply boxes or bags to carry your food home. \nQuestions or to volunteer please email rubyspantrymarshallmn@gmail.com
URL:https://www.unitedcapmn.org/event/rubys-pantry-2018-03-01/2018-03-01/
LOCATION:National Guard Armory – Marshall\, 500 Timmerman Drive \, Marshall\, MN\, 56258\, United States
CATEGORIES:Food Programs
GEO:44.442599;-95.7955892
X-APPLE-STRUCTURED-LOCATION;VALUE=URI;X-ADDRESS=National Guard Armory – Marshall 500 Timmerman Drive  Marshall MN 56258 United States;X-APPLE-RADIUS=500;X-TITLE=500 Timmerman Drive:geo:-95.7955892,44.442599
END:VEVENT
END:VCALENDAR